BEGIN:VCALENDAR
VERSION:2.0
PRODID:-//ChamberMaster//Event Calendar 2.0//EN
METHOD:PUBLISH
X-PUBLISHED-TTL:P3D
REFRESH-INTERVAL:P3D
CALSCALE:GREGORIAN
BEGIN:VEVENT
DTSTART:20160517T213000Z
DTEND:20160517T223000Z
X-MICROSOFT-CDO-ALLDAYEVENT:FALSE
SUMMARY:Ribbon Cutting: SpringHill Suites
DESCRIPTION:Please join us Tuesday\, May 17\, at 4:30 p.m.\, for a ribbon cutting to celebrate the completed renovations of SpringHill Suites\, located at 1 Riverfront Plaza\, Ste. 300. \n\n\n\nOver the course of the last few months\, the hotel has done a complete interior renovation of all guest rooms\, meeting spaces and lobby. Please be sure to attend to see the new look.
X-ALT-DESC;FMTTYPE=text/html:<span style="font-family: 'Roboto Slab'\, Arial\, Helvetica\, sans-serif\; font-size: 15px\; line-height: 19.5px\;">Please join us Tuesday\, May 17\, at 4:30 p.m.\, for a ribbon cutting to celebrate the completed renovations of SpringHill Suites\,</span><span style="font-family: 'Roboto Slab'\, Arial\, Helvetica\, sans-serif\; font-size: 15px\; line-height: 19.5px\;">&nbsp\;located at 1 Riverfront Plaza\, Ste. 300.&nbsp\;<br />\n<br />\nOver the course of the last few months\, the hotel has done a complete interior renovation of all guest rooms\, meeting spaces and lobby. Please be sure to attend to see the new look.&nbsp\;</span>
LOCATION:1 Riverfront Plaza\, Ste 300. Lawrence\, KS 66044
UID:e.2064.2220
SEQUENCE:3
DTSTAMP:20260424T150150Z
URL:http://lawrencechamber.chambermaster.com/events/details/ribbon-cutting-springhill-suites-2220
END:VEVENT

END:VCALENDAR
