BEGIN:VCALENDAR
VERSION:2.0
PRODID:-//ChamberMaster//Event Calendar 2.0//EN
METHOD:PUBLISH
X-PUBLISHED-TTL:P3D
REFRESH-INTERVAL:P3D
CALSCALE:GREGORIAN
BEGIN:VEVENT
DTSTART:20161117T233000Z
DTEND:20161118T020000Z
X-MICROSOFT-CDO-ALLDAYEVENT:FALSE
SUMMARY:Client Appreciation Party
DESCRIPTION:Food & drinks\n	introduction to skincare products\n	chair massage & foot baths\n	prize drawings and more!\n\n\n\nDiscounts on gift certificates and products\n\nfriends welcome!
X-ALT-DESC;FMTTYPE=text/html:<ul>\n	<li>Food &amp\; drinks</li>\n	<li>introduction to skincare products</li>\n	<li>chair massage &amp\; foot baths</li>\n	<li>prize drawings and more!</li>\n</ul>\n<br />\n<em>Discounts on gift certificates and products<br />\nfriends welcome!</em><br />\n&nbsp\;
LOCATION:4105 W. 6th St. Lawrence\, KS 66049
UID:e.2064.2304
SEQUENCE:3
DTSTAMP:20260424T060805Z
URL:http://lawrencechamber.chambermaster.com/events/details/client-appreciation-party-11-17-2016-2304
END:VEVENT

END:VCALENDAR
